BEGIN:VCALENDAR
VERSION:2.0
PRODID:-//Frontier Nursing University - ECPv6.15.20//NONSGML v1.0//EN
CALSCALE:GREGORIAN
METHOD:PUBLISH
X-ORIGINAL-URL:https://frontier.edu
X-WR-CALDESC:Events for Frontier Nursing University
REFRESH-INTERVAL;VALUE=DURATION:PT1H
X-Robots-Tag:noindex
X-PUBLISHED-TTL:PT1H
BEGIN:VTIMEZONE
TZID:UTC
BEGIN:STANDARD
TZOFFSETFROM:+0000
TZOFFSETTO:+0000
TZNAME:UTC
DTSTART:20250101T000000
END:STANDARD
END:VTIMEZONE
BEGIN:VTIMEZONE
TZID:America/Kentucky/Louisville
BEGIN:DAYLIGHT
TZOFFSETFROM:-0500
TZOFFSETTO:-0400
TZNAME:EDT
DTSTART:20250309T070000
END:DAYLIGHT
BEGIN:STANDARD
TZOFFSETFROM:-0400
TZOFFSETTO:-0500
TZNAME:EST
DTSTART:20251102T060000
END:STANDARD
BEGIN:DAYLIGHT
TZOFFSETFROM:-0500
TZOFFSETTO:-0400
TZNAME:EDT
DTSTART:20260308T070000
END:DAYLIGHT
BEGIN:STANDARD
TZOFFSETFROM:-0400
TZOFFSETTO:-0500
TZNAME:EST
DTSTART:20261101T060000
END:STANDARD
BEGIN:DAYLIGHT
TZOFFSETFROM:-0500
TZOFFSETTO:-0400
TZNAME:EDT
DTSTART:20270314T070000
END:DAYLIGHT
BEGIN:STANDARD
TZOFFSETFROM:-0400
TZOFFSETTO:-0500
TZNAME:EST
DTSTART:20271107T060000
END:STANDARD
END:VTIMEZONE
BEGIN:VEVENT
DTSTART;TZID=UTC:20260923T000000
DTEND;TZID=UTC:20260923T235959
DTSTAMP:20260420T030701
CREATED:20260109T224014Z
LAST-MODIFIED:20260413T194908Z
UID:10000633-1790121600-1790207999@frontier.edu
SUMMARY:Winter Term 2027 Application Deadline
DESCRIPTION:Winter Term 2027 \nFNU accepts applicants on a rolling admission process versus a standard admission process. Applicants can learn the status of their application within four to five weeks after their application materials are received by FNU. Apply today…the sooner you apply\, the sooner you know. \nWe look forward to working with you. \n 
URL:https://frontier.edu/event/winter-term-2027-application-deadline/
CATEGORIES:Application Deadlines
ATTACH;FMTTYPE=image/png:https://frontier.edu/wp-content/uploads/2026/01/FNU-Application-Deadline-274-px-x-162-px-2.png
END:VEVENT
BEGIN:VEVENT
DTSTART;VALUE=DATE:20260923
DTEND;VALUE=DATE:20260926
DTSTAMP:20260420T030701
CREATED:20251209T174717Z
LAST-MODIFIED:20251209T181538Z
UID:10000627-1790121600-1790380799@frontier.edu
SUMMARY:Nurse Practitioners for Women’s Health (NPWH)
DESCRIPTION:Location: Richmond\, VA
URL:https://frontier.edu/event/nurse-practitioners-for-womens-health-npwh/
CATEGORIES:Events & Conferences,Frontier Events Page
ATTACH;FMTTYPE=image/jpeg:https://frontier.edu/wp-content/uploads/2023/10/Mission-Driven-and-Legacy-Building-Leveraging-the-power-and-impact-of-DNP-prepared-leadership.jpeg
END:VEVENT
END:VCALENDAR