BEGIN:VCALENDAR
VERSION:2.0
PRODID:-//Frontier Nursing University - ECPv6.15.20//NONSGML v1.0//EN
CALSCALE:GREGORIAN
METHOD:PUBLISH
X-ORIGINAL-URL:https://frontier.edu
X-WR-CALDESC:Events for Frontier Nursing University
REFRESH-INTERVAL;VALUE=DURATION:PT1H
X-Robots-Tag:noindex
X-PUBLISHED-TTL:PT1H
BEGIN:VTIMEZONE
TZID:UTC
BEGIN:STANDARD
TZOFFSETFROM:+0000
TZOFFSETTO:+0000
TZNAME:UTC
DTSTART:20250101T000000
END:STANDARD
END:VTIMEZONE
BEGIN:VTIMEZONE
TZID:America/Kentucky/Louisville
BEGIN:DAYLIGHT
TZOFFSETFROM:-0500
TZOFFSETTO:-0400
TZNAME:EDT
DTSTART:20250309T070000
END:DAYLIGHT
BEGIN:STANDARD
TZOFFSETFROM:-0400
TZOFFSETTO:-0500
TZNAME:EST
DTSTART:20251102T060000
END:STANDARD
BEGIN:DAYLIGHT
TZOFFSETFROM:-0500
TZOFFSETTO:-0400
TZNAME:EDT
DTSTART:20260308T070000
END:DAYLIGHT
BEGIN:STANDARD
TZOFFSETFROM:-0400
TZOFFSETTO:-0500
TZNAME:EST
DTSTART:20261101T060000
END:STANDARD
BEGIN:DAYLIGHT
TZOFFSETFROM:-0500
TZOFFSETTO:-0400
TZNAME:EDT
DTSTART:20270314T070000
END:DAYLIGHT
BEGIN:STANDARD
TZOFFSETFROM:-0400
TZOFFSETTO:-0500
TZNAME:EST
DTSTART:20271107T060000
END:STANDARD
END:VTIMEZONE
BEGIN:VEVENT
DTSTART;VALUE=DATE:20260914
DTEND;VALUE=DATE:20260917
DTSTAMP:20260425T150121
CREATED:20251018T120222Z
LAST-MODIFIED:20251018T120222Z
UID:10000616-1789344000-1789603199@frontier.edu
SUMMARY:Frontier Bound #6 - Fall Term 2026\, MSN & PGC (CNM\, FNP\, PMHNP) Class 221
DESCRIPTION:Students begin their journey with an orientation to Frontier Nursing University. Time is spent learning skills needed for distance education\, making lifelong friends\, reviewing courses\, asking questions\, and planning to be a successful Frontier student after returning home. \nFall 2026 term begins October 5\, 2026.
URL:https://frontier.edu/event/frontier-bound-6-fall-term-2026-msn-pgc-cnm-fnp-pmhnp-class-221/
CATEGORIES:Frontier Bound
END:VEVENT
BEGIN:VEVENT
DTSTART;VALUE=DATE:20260919
DTEND;VALUE=DATE:20260920
DTSTAMP:20260425T150121
CREATED:20260211T211812Z
LAST-MODIFIED:20260211T211812Z
UID:10000658-1789776000-1789862399@frontier.edu
SUMMARY:FNU Commencement
DESCRIPTION:Our annual commencement ceremony is a celebration of our nurse-midwife and nurse practitioner graduates from the past year who have completed their Master of Science in Nursing degree\, Doctor of Nursing Practice degree\, or Post-Graduate Certificate. Learn more about Commencement at this link.
URL:https://frontier.edu/event/fnu-commencement-3/
CATEGORIES:Events & Conferences,Frontier Events Page
ATTACH;FMTTYPE=image/jpeg:https://frontier.edu/wp-content/uploads/2024/11/FNU242024_PreCeremony_087-2-scaled.jpg
END:VEVENT
END:VCALENDAR