BEGIN:VCALENDAR
VERSION:2.0
PRODID:-//Frontier Nursing University - ECPv6.15.20//NONSGML v1.0//EN
CALSCALE:GREGORIAN
METHOD:PUBLISH
X-WR-CALNAME:Frontier Nursing University
X-ORIGINAL-URL:https://frontier.edu
X-WR-CALDESC:Events for Frontier Nursing University
REFRESH-INTERVAL;VALUE=DURATION:PT1H
X-Robots-Tag:noindex
X-PUBLISHED-TTL:PT1H
BEGIN:VTIMEZONE
TZID:America/Kentucky/Louisville
BEGIN:DAYLIGHT
TZOFFSETFROM:-0500
TZOFFSETTO:-0400
TZNAME:EDT
DTSTART:20240310T070000
END:DAYLIGHT
BEGIN:STANDARD
TZOFFSETFROM:-0400
TZOFFSETTO:-0500
TZNAME:EST
DTSTART:20241103T060000
END:STANDARD
BEGIN:DAYLIGHT
TZOFFSETFROM:-0500
TZOFFSETTO:-0400
TZNAME:EDT
DTSTART:20250309T070000
END:DAYLIGHT
BEGIN:STANDARD
TZOFFSETFROM:-0400
TZOFFSETTO:-0500
TZNAME:EST
DTSTART:20251102T060000
END:STANDARD
BEGIN:DAYLIGHT
TZOFFSETFROM:-0500
TZOFFSETTO:-0400
TZNAME:EDT
DTSTART:20260308T070000
END:DAYLIGHT
BEGIN:STANDARD
TZOFFSETFROM:-0400
TZOFFSETTO:-0500
TZNAME:EST
DTSTART:20261101T060000
END:STANDARD
END:VTIMEZONE
BEGIN:VTIMEZONE
TZID:UTC
BEGIN:STANDARD
TZOFFSETFROM:+0000
TZOFFSETTO:+0000
TZNAME:UTC
DTSTART:20240101T000000
END:STANDARD
END:VTIMEZONE
BEGIN:VEVENT
DTSTART;TZID=America/Kentucky/Louisville:20250212T120000
DTEND;TZID=America/Kentucky/Louisville:20250212T130000
DTSTAMP:20260425T230533
CREATED:20241218T210635Z
LAST-MODIFIED:20250114T143335Z
UID:10000554-1739361600-1739365200@frontier.edu
SUMMARY:Post-Master's DNP LIVE Q&A Session
DESCRIPTION:Are you interested in learning about FNU’s Post-Master’s DNP program? Join us for a Q&A session. \nZoom Link \n Register
URL:https://frontier.edu/event/post-masters-dnp-live-qa-session-5/
CATEGORIES:Events & Conferences,Q&A Sessions
END:VEVENT
BEGIN:VEVENT
DTSTART;VALUE=DATE:20250216
DTEND;VALUE=DATE:20250219
DTSTAMP:20260425T230533
CREATED:20240327T122311Z
LAST-MODIFIED:20240501T195028Z
UID:10000496-1739664000-1739923199@frontier.edu
SUMMARY:Frontier Bound #1 - Spring Term 2025\, MSN & PGC (CNM\, FNP\, WHNP) Class 215
DESCRIPTION:Students begin their journey with an orientation to Frontier Nursing University. Time is spent learning skills needed for distance education\, making lifelong friends\, reviewing courses\, asking questions\, and planning to be a successful Frontier student after returning home. \nSpring 2025 term begins April 7\, 2025.
URL:https://frontier.edu/event/frontier-bound-1-spring-term-2025-msn-pgc-cnm-fnp-whnp-class-215/
CATEGORIES:Frontier Bound
ATTACH;FMTTYPE=image/png:https://frontier.edu/wp-content/uploads/2024/03/calendar-navy.png
END:VEVENT
END:VCALENDAR