BEGIN:VCALENDAR
VERSION:2.0
PRODID:-//Frontier Nursing University - ECPv6.15.20//NONSGML v1.0//EN
CALSCALE:GREGORIAN
METHOD:PUBLISH
X-ORIGINAL-URL:https://frontier.edu
X-WR-CALDESC:Events for Frontier Nursing University
REFRESH-INTERVAL;VALUE=DURATION:PT1H
X-Robots-Tag:noindex
X-PUBLISHED-TTL:PT1H
BEGIN:VTIMEZONE
TZID:America/Kentucky/Louisville
BEGIN:DAYLIGHT
TZOFFSETFROM:-0500
TZOFFSETTO:-0400
TZNAME:EDT
DTSTART:20230312T070000
END:DAYLIGHT
BEGIN:STANDARD
TZOFFSETFROM:-0400
TZOFFSETTO:-0500
TZNAME:EST
DTSTART:20231105T060000
END:STANDARD
BEGIN:DAYLIGHT
TZOFFSETFROM:-0500
TZOFFSETTO:-0400
TZNAME:EDT
DTSTART:20240310T070000
END:DAYLIGHT
BEGIN:STANDARD
TZOFFSETFROM:-0400
TZOFFSETTO:-0500
TZNAME:EST
DTSTART:20241103T060000
END:STANDARD
BEGIN:DAYLIGHT
TZOFFSETFROM:-0500
TZOFFSETTO:-0400
TZNAME:EDT
DTSTART:20250309T070000
END:DAYLIGHT
BEGIN:STANDARD
TZOFFSETFROM:-0400
TZOFFSETTO:-0500
TZNAME:EST
DTSTART:20251102T060000
END:STANDARD
END:VTIMEZONE
BEGIN:VEVENT
DTSTART;VALUE=DATE:20241022
DTEND;VALUE=DATE:20241024
DTSTAMP:20260420T225552
CREATED:20240516T144031Z
LAST-MODIFIED:20240516T144031Z
UID:10000523-1729555200-1729727999@frontier.edu
SUMMARY:FNU Day of Giving
DESCRIPTION:Just one Day of Giving can make a lifetime of difference.\n\n\n\n\n\n\n\n\nLearn more about the giving options available at Frontier Nursing University and how your gift impacts our students and the educational programs we provide. Visit frontier.edu/give-to-fnu. \n\n\n\n\nOctober 22 – 23\, 2024\n12:00 pm – 12:00 pm
URL:https://frontier.edu/event/fnu-day-of-giving-2/
CATEGORIES:Events & Conferences
END:VEVENT
BEGIN:VEVENT
DTSTART;TZID=America/Kentucky/Louisville:20241022T180000
DTEND;TZID=America/Kentucky/Louisville:20241022T200000
DTSTAMP:20260420T225552
CREATED:20240912T174557Z
LAST-MODIFIED:20240917T123807Z
UID:10000532-1729620000-1729627200@frontier.edu
SUMMARY:Alumni and Friends Reception in Boston
DESCRIPTION:Join us for an FNU Reception in Boston. Please RSVP below. We can’t wait to see you there! \nWHERE \nThe Envoy\nRooftop Harbor Lounge\n70 Sleeper Street\nBoston\, MA \nWHEN \nOctober 22\, 2024\n6 p.m. ET \n REGISTER\n 
URL:https://frontier.edu/event/alumni-and-friends-reception-in-boston/
CATEGORIES:Events & Conferences
END:VEVENT
END:VCALENDAR