BEGIN:VCALENDAR
VERSION:2.0
PRODID:-//Frontier Nursing University - ECPv6.15.20//NONSGML v1.0//EN
CALSCALE:GREGORIAN
METHOD:PUBLISH
X-WR-CALNAME:Frontier Nursing University
X-ORIGINAL-URL:https://frontier.edu
X-WR-CALDESC:Events for Frontier Nursing University
REFRESH-INTERVAL;VALUE=DURATION:PT1H
X-Robots-Tag:noindex
X-PUBLISHED-TTL:PT1H
BEGIN:VTIMEZONE
TZID:UTC
BEGIN:STANDARD
TZOFFSETFROM:+0000
TZOFFSETTO:+0000
TZNAME:UTC
DTSTART:20220101T000000
END:STANDARD
END:VTIMEZONE
BEGIN:VEVENT
DTSTART;VALUE=DATE:20230410
DTEND;VALUE=DATE:20230411
DTSTAMP:20260423T161133
CREATED:20210916T104052Z
LAST-MODIFIED:20210916T104052Z
UID:10000362-1681084800-1681171199@frontier.edu
SUMMARY:Spring Term 2023 Begins
DESCRIPTION:
URL:https://frontier.edu/event/spring-term-2023-begins/
CATEGORIES:Term Dates
END:VEVENT
BEGIN:VEVENT
DTSTART;VALUE=DATE:20230412
DTEND;VALUE=DATE:20230417
DTSTAMP:20260423T161133
CREATED:20230131T213345Z
LAST-MODIFIED:20230131T213345Z
UID:10000429-1681257600-1681689599@frontier.edu
SUMMARY:National Student Nurses Association (NSNA) Annual Convention
DESCRIPTION:See you in Nashville\, TN!
URL:https://frontier.edu/event/national-student-nurses-association-nsna-annual-convention/
CATEGORIES:Events & Conferences
END:VEVENT
END:VCALENDAR