BEGIN:VCALENDAR
VERSION:2.0
PRODID:-//Frontier Nursing University - ECPv6.15.20//NONSGML v1.0//EN
CALSCALE:GREGORIAN
METHOD:PUBLISH
X-ORIGINAL-URL:https://frontier.edu
X-WR-CALDESC:Events for Frontier Nursing University
REFRESH-INTERVAL;VALUE=DURATION:PT1H
X-Robots-Tag:noindex
X-PUBLISHED-TTL:PT1H
BEGIN:VTIMEZONE
TZID:UTC
BEGIN:STANDARD
TZOFFSETFROM:+0000
TZOFFSETTO:+0000
TZNAME:UTC
DTSTART:20170101T000000
END:STANDARD
END:VTIMEZONE
BEGIN:VEVENT
DTSTART;VALUE=DATE:20181024
DTEND;VALUE=DATE:20181028
DTSTAMP:20260419T103549
CREATED:20180815T220128Z
LAST-MODIFIED:20191222T205052Z
UID:10000283-1540339200-1540684799@frontier.edu
SUMMARY:American Psychiatric Nurses Association Conference
DESCRIPTION:American Psychiatric Nurses Association Conference\nColumbus\, OH
URL:https://frontier.edu/event/american-psychiatric-nurses-association-conference/
CATEGORIES:Events & Conferences
END:VEVENT
END:VCALENDAR