BEGIN:VCALENDAR
VERSION:2.0
PRODID:-//Frontier Nursing University - ECPv6.15.20//NONSGML v1.0//EN
CALSCALE:GREGORIAN
METHOD:PUBLISH
X-WR-CALNAME:Frontier Nursing University
X-ORIGINAL-URL:https://frontier.edu
X-WR-CALDESC:Events for Frontier Nursing University
REFRESH-INTERVAL;VALUE=DURATION:PT1H
X-Robots-Tag:noindex
X-PUBLISHED-TTL:PT1H
BEGIN:VTIMEZONE
TZID:UTC
BEGIN:STANDARD
TZOFFSETFROM:+0000
TZOFFSETTO:+0000
TZNAME:UTC
DTSTART:20250101T000000
END:STANDARD
END:VTIMEZONE
BEGIN:VTIMEZONE
TZID:America/Kentucky/Louisville
BEGIN:DAYLIGHT
TZOFFSETFROM:-0500
TZOFFSETTO:-0400
TZNAME:EDT
DTSTART:20250309T070000
END:DAYLIGHT
BEGIN:STANDARD
TZOFFSETFROM:-0400
TZOFFSETTO:-0500
TZNAME:EST
DTSTART:20251102T060000
END:STANDARD
BEGIN:DAYLIGHT
TZOFFSETFROM:-0500
TZOFFSETTO:-0400
TZNAME:EDT
DTSTART:20260308T070000
END:DAYLIGHT
BEGIN:STANDARD
TZOFFSETFROM:-0400
TZOFFSETTO:-0500
TZNAME:EST
DTSTART:20261101T060000
END:STANDARD
BEGIN:DAYLIGHT
TZOFFSETFROM:-0500
TZOFFSETTO:-0400
TZNAME:EDT
DTSTART:20270314T070000
END:DAYLIGHT
BEGIN:STANDARD
TZOFFSETFROM:-0400
TZOFFSETTO:-0500
TZNAME:EST
DTSTART:20271107T060000
END:STANDARD
END:VTIMEZONE
BEGIN:VEVENT
DTSTART;VALUE=DATE:20260302
DTEND;VALUE=DATE:20260305
DTSTAMP:20260418T202203
CREATED:20250328T125947Z
LAST-MODIFIED:20250328T125947Z
UID:10000585-1772409600-1772668799@frontier.edu
SUMMARY:Frontier Bound #4 - Spring Term 2026\, MSN & PGC (CNM\, FNP\, PMHNP) Class 219
DESCRIPTION:Students begin their journey with an orientation to Frontier Nursing University. Time is spent learning skills needed for distance education\, making lifelong friends\, reviewing courses\, asking questions\, and planning to be a successful Frontier student after returning home. \nSpring 2026 term begins April 6\, 2026.
URL:https://frontier.edu/event/frontier-bound-4-spring-term-2026-msn-pgc-cnm-fnp-pmhnp-class-219/
CATEGORIES:Frontier Bound
END:VEVENT
BEGIN:VEVENT
DTSTART;VALUE=DATE:20260309
DTEND;VALUE=DATE:20260312
DTSTAMP:20260418T202203
CREATED:20250328T130031Z
LAST-MODIFIED:20250328T130031Z
UID:10000586-1773014400-1773273599@frontier.edu
SUMMARY:Frontier Bound #5 - Spring Term 2026\, MSN & PGC (CNM\, FNP\, PMHNP) Class 219
DESCRIPTION:Students begin their journey with an orientation to Frontier Nursing University. Time is spent learning skills needed for distance education\, making lifelong friends\, reviewing courses\, asking questions\, and planning to be a successful Frontier student after returning home. \nSpring 2026 term begins April 6\, 2026.
URL:https://frontier.edu/event/frontier-bound-5-spring-term-2026-msn-pgc-cnm-fnp-pmhnp-class-219/
CATEGORIES:Frontier Bound
END:VEVENT
BEGIN:VEVENT
DTSTART;VALUE=DATE:20260316
DTEND;VALUE=DATE:20260319
DTSTAMP:20260418T202203
CREATED:20250328T130109Z
LAST-MODIFIED:20250328T130109Z
UID:10000587-1773619200-1773878399@frontier.edu
SUMMARY:Frontier Bound #6 - Spring Term 2026\, MSN & PGC (CNM\, FNP\, PMHNP) Class 219
DESCRIPTION:Students begin their journey with an orientation to Frontier Nursing University. Time is spent learning skills needed for distance education\, making lifelong friends\, reviewing courses\, asking questions\, and planning to be a successful Frontier student after returning home. \nSpring 2026 term begins April 6\, 2026.
URL:https://frontier.edu/event/frontier-bound-6-spring-term-2026-msn-pgc-cnm-fnp-pmhnp-class-219/
CATEGORIES:Frontier Bound
END:VEVENT
BEGIN:VEVENT
DTSTART;VALUE=DATE:20260318
DTEND;VALUE=DATE:20260322
DTSTAMP:20260418T202203
CREATED:20251209T173424Z
LAST-MODIFIED:20260116T175144Z
UID:10000618-1773792000-1774137599@frontier.edu
SUMMARY:National Association of Pediatric Nurse Practitioners (NAPNAP)
DESCRIPTION:Pittsburgh\, PA
URL:https://frontier.edu/event/national-association-of-pediatric-nurse-practitioners-napnap/
CATEGORIES:Events & Conferences
ATTACH;FMTTYPE=image/jpeg:https://frontier.edu/wp-content/uploads/2021/08/Family-NP.jpg
END:VEVENT
BEGIN:VEVENT
DTSTART;VALUE=DATE:20260328
DTEND;VALUE=DATE:20260329
DTSTAMP:20260418T202203
CREATED:20251209T182154Z
LAST-MODIFIED:20251209T182342Z
UID:10000630-1774656000-1774742399@frontier.edu
SUMMARY:Kentucky Association of Nursing Students (KANS)
DESCRIPTION:Location: Northern Kentucky University
URL:https://frontier.edu/event/kentucky-association-of-nursing-students-kans/
CATEGORIES:Events & Conferences,Frontier Events Page
ATTACH;FMTTYPE=image/jpeg:https://frontier.edu/wp-content/uploads/2022/05/FNU-Students-on-Campus-May-2022.jpg
END:VEVENT
BEGIN:VEVENT
DTSTART;TZID=America/Kentucky/Louisville:20260330T190000
DTEND;TZID=America/Kentucky/Louisville:20260330T203000
DTSTAMP:20260418T202203
CREATED:20260311T202848Z
LAST-MODIFIED:20260311T205631Z
UID:10000664-1774897200-1774902600@frontier.edu
SUMMARY:Virtual Alumni Coffee Chat - Innovate\, Advocate\, Lead: Addressing Intimate Partner Violence (Free CE)
DESCRIPTION:Virtual Alumni Coffee Chat – You’re invited to an exclusive CE opportunity!  \nInnovate\, Advocate\, Lead: Addressing Intimate Partner Violence \nA Quality Improvement Project in FNU’s Doctor of Nursing Practice Program\n\nJoin us for a FREE virtual event on March 30 at 7 PM ET for a session exploring how earning your Doctor of Nursing Practice (DNP) degree is a powerful pathway to advanced leadership skills that directly address critical public health challenges\, such as intimate partner violence. \n\n\n\n Register
URL:https://frontier.edu/event/virtual-alumni-coffee-chat-innovate-advocate-lead-addressing-intimate-partner-violence-free-ce/
CATEGORIES:CE,Events & Conferences,Frontier Events Page
ATTACH;FMTTYPE=image/png:https://frontier.edu/wp-content/uploads/2026/03/VIRTUAL-ALUMNI-COFFEE-CHAT-2.png
END:VEVENT
END:VCALENDAR