BEGIN:VCALENDAR
VERSION:2.0
PRODID:-//Frontier Nursing University - ECPv6.15.20//NONSGML v1.0//EN
CALSCALE:GREGORIAN
METHOD:PUBLISH
X-ORIGINAL-URL:https://frontier.edu
X-WR-CALDESC:Events for Frontier Nursing University
REFRESH-INTERVAL;VALUE=DURATION:PT1H
X-Robots-Tag:noindex
X-PUBLISHED-TTL:PT1H
BEGIN:VTIMEZONE
TZID:America/Kentucky/Louisville
BEGIN:DAYLIGHT
TZOFFSETFROM:-0500
TZOFFSETTO:-0400
TZNAME:EDT
DTSTART:20220313T070000
END:DAYLIGHT
BEGIN:STANDARD
TZOFFSETFROM:-0400
TZOFFSETTO:-0500
TZNAME:EST
DTSTART:20221106T060000
END:STANDARD
BEGIN:DAYLIGHT
TZOFFSETFROM:-0500
TZOFFSETTO:-0400
TZNAME:EDT
DTSTART:20230312T070000
END:DAYLIGHT
BEGIN:STANDARD
TZOFFSETFROM:-0400
TZOFFSETTO:-0500
TZNAME:EST
DTSTART:20231105T060000
END:STANDARD
BEGIN:DAYLIGHT
TZOFFSETFROM:-0500
TZOFFSETTO:-0400
TZNAME:EDT
DTSTART:20240310T070000
END:DAYLIGHT
BEGIN:STANDARD
TZOFFSETFROM:-0400
TZOFFSETTO:-0500
TZNAME:EST
DTSTART:20241103T060000
END:STANDARD
END:VTIMEZONE
BEGIN:VTIMEZONE
TZID:UTC
BEGIN:STANDARD
TZOFFSETFROM:+0000
TZOFFSETTO:+0000
TZNAME:UTC
DTSTART:20220101T000000
END:STANDARD
END:VTIMEZONE
BEGIN:VEVENT
DTSTART;VALUE=DATE:20231029
DTEND;VALUE=DATE:20231102
DTSTAMP:20260424T122502
CREATED:20230412T152006Z
LAST-MODIFIED:20230412T152006Z
UID:10000441-1698537600-1698883199@frontier.edu
SUMMARY:Nurse Practitioners Women’s Healthcare (NPWH) Conference
DESCRIPTION:
URL:https://frontier.edu/event/nurse-practitioners-womens-healthcare-npwh-conference-2/
CATEGORIES:Events & Conferences
END:VEVENT
BEGIN:VEVENT
DTSTART;TZID=America/Kentucky/Louisville:20231101T120000
DTEND;TZID=America/Kentucky/Louisville:20231101T130000
DTSTAMP:20260424T122502
CREATED:20230105T171514Z
LAST-MODIFIED:20230105T171514Z
UID:10000419-1698840000-1698843600@frontier.edu
SUMMARY:Doctor of Nursing Practice (DNP) LIVE Q&A Session
DESCRIPTION:Are you interested in learning about FNU’s Post-Master’s DNP program? Join us for a Q&A session. \n Register
URL:https://frontier.edu/event/doctor-of-nursing-practice-dnp-live-qa-session-4/
CATEGORIES:Events & Conferences,Q&A Sessions
END:VEVENT
BEGIN:VEVENT
DTSTART;TZID=America/Kentucky/Louisville:20231101T170000
DTEND;TZID=America/Kentucky/Louisville:20231101T180000
DTSTAMP:20260424T122502
CREATED:20230105T171645Z
LAST-MODIFIED:20230105T171645Z
UID:10000422-1698858000-1698861600@frontier.edu
SUMMARY:Nurse-Midwifery LIVE Q&A Session
DESCRIPTION:Are you interested in learning about FNU’s Nurse-Midwifery program? Join us for a Q&A session. \n Register
URL:https://frontier.edu/event/nurse-midwifery-live-qa-session-8/
CATEGORIES:Events & Conferences,Q&A Sessions
END:VEVENT
BEGIN:VEVENT
DTSTART;TZID=America/Kentucky/Louisville:20231101T170000
DTEND;TZID=America/Kentucky/Louisville:20231101T180000
DTSTAMP:20260424T122502
CREATED:20230105T171849Z
LAST-MODIFIED:20230105T171849Z
UID:10000425-1698858000-1698861600@frontier.edu
SUMMARY:Family Nurse Practitioner (FNP) LIVE Q&A Session
DESCRIPTION:Are you interested in learning about FNU’s FNP program? Join us for a Q&A session. \n Register
URL:https://frontier.edu/event/family-nurse-practitioner-fnp-live-qa-session-8/
CATEGORIES:Events & Conferences,Q&A Sessions
END:VEVENT
BEGIN:VEVENT
DTSTART;VALUE=DATE:20231102
DTEND;VALUE=DATE:20231106
DTSTAMP:20260424T122502
CREATED:20230412T152054Z
LAST-MODIFIED:20230412T152054Z
UID:10000442-1698883200-1699228799@frontier.edu
SUMMARY:National Student Nurses Association Midyear (NSNA) Mid-year Conference
DESCRIPTION:
URL:https://frontier.edu/event/national-student-nurses-association-midyear-nsna-mid-year-conference-3/
CATEGORIES:Events & Conferences
END:VEVENT
BEGIN:VEVENT
DTSTART;TZID=America/Kentucky/Louisville:20231102T170000
DTEND;TZID=America/Kentucky/Louisville:20231102T180000
DTSTAMP:20260424T122502
CREATED:20231026T122327Z
LAST-MODIFIED:20231026T122327Z
UID:10000446-1698944400-1698948000@frontier.edu
SUMMARY:Doctor of Nursing Practice (DNP) LIVE Q&A Session
DESCRIPTION:Are you interested in learning about FNU’s Post-Master’s DNP program? Join us for a Q&A session. \n Register
URL:https://frontier.edu/event/doctor-of-nursing-practice-dnp-live-qa-session-5/
CATEGORIES:Events & Conferences,Q&A Sessions
END:VEVENT
BEGIN:VEVENT
DTSTART;VALUE=DATE:20231106
DTEND;VALUE=DATE:20231109
DTSTAMP:20260424T122502
CREATED:20231128T013732Z
LAST-MODIFIED:20231128T013732Z
UID:10000447-1699228800-1699487999@frontier.edu
SUMMARY:Frontier Bound #1 - Winter Term 2024\, MSN & PGC (WHNP) Class 210
DESCRIPTION:Subject to change due to COVID-19. Students begin their journey with an orientation to Frontier Nursing University. Time is spent learning skills needed for distance education\, making lifelong friends\, reviewing courses\, asking questions\, and planning to be a successful Frontier student after returning home. \nWinter 2024 term begins January 8\, 2024.
URL:https://frontier.edu/event/frontier-bound-1-winter-term-2024-msn-pgc-whnp-class-210/
CATEGORIES:Frontier Bound
END:VEVENT
BEGIN:VEVENT
DTSTART;VALUE=DATE:20231115
DTEND;VALUE=DATE:20231118
DTSTAMP:20260424T122502
CREATED:20231128T013855Z
LAST-MODIFIED:20231128T013855Z
UID:10000448-1700006400-1700265599@frontier.edu
SUMMARY:Frontier Bound #2 - Winter Term 2024\, DNP Class 53
DESCRIPTION:Subject to change due to COVID-19. Students begin their journey with an orientation to Frontier Nursing University. Time is spent learning skills needed for distance education\, making lifelong friends\, reviewing courses\, asking questions\, and planning to be a successful Frontier student after returning home. \nWinter 2024 term begins January 8\, 2024.
URL:https://frontier.edu/event/frontier-bound-2-winter-term-2024-dnp-class-53/
CATEGORIES:Frontier Bound
END:VEVENT
BEGIN:VEVENT
DTSTART;VALUE=DATE:20231128
DTEND;VALUE=DATE:20231201
DTSTAMP:20260424T122502
CREATED:20231128T014034Z
LAST-MODIFIED:20231128T014203Z
UID:10000449-1701129600-1701388799@frontier.edu
SUMMARY:Frontier Bound #3 - Winter Term 2024\, MSN & PGC (CNM\, WHNP\, PMHNP) Class 210
DESCRIPTION:Subject to change due to COVID-19. Students begin their journey with an orientation to Frontier Nursing University. Time is spent learning skills needed for distance education\, making lifelong friends\, reviewing courses\, asking questions\, and planning to be a successful Frontier student after returning home. \nWinter 2024 term begins January 8\, 2024.
URL:https://frontier.edu/event/frontier-bound-3-winter-term-2023-msn-pgc-cnm-whnp-pmhnp-class-210/
CATEGORIES:Frontier Bound
END:VEVENT
END:VCALENDAR