BEGIN:VCALENDAR
VERSION:2.0
PRODID:-//Frontier Nursing University - ECPv6.15.20//NONSGML v1.0//EN
CALSCALE:GREGORIAN
METHOD:PUBLISH
X-WR-CALNAME:Frontier Nursing University
X-ORIGINAL-URL:https://frontier.edu
X-WR-CALDESC:Events for Frontier Nursing University
REFRESH-INTERVAL;VALUE=DURATION:PT1H
X-Robots-Tag:noindex
X-PUBLISHED-TTL:PT1H
BEGIN:VTIMEZONE
TZID:America/Kentucky/Louisville
BEGIN:DAYLIGHT
TZOFFSETFROM:-0500
TZOFFSETTO:-0400
TZNAME:EDT
DTSTART:20240310T070000
END:DAYLIGHT
BEGIN:STANDARD
TZOFFSETFROM:-0400
TZOFFSETTO:-0500
TZNAME:EST
DTSTART:20241103T060000
END:STANDARD
BEGIN:DAYLIGHT
TZOFFSETFROM:-0500
TZOFFSETTO:-0400
TZNAME:EDT
DTSTART:20250309T070000
END:DAYLIGHT
BEGIN:STANDARD
TZOFFSETFROM:-0400
TZOFFSETTO:-0500
TZNAME:EST
DTSTART:20251102T060000
END:STANDARD
BEGIN:DAYLIGHT
TZOFFSETFROM:-0500
TZOFFSETTO:-0400
TZNAME:EDT
DTSTART:20260308T070000
END:DAYLIGHT
BEGIN:STANDARD
TZOFFSETFROM:-0400
TZOFFSETTO:-0500
TZNAME:EST
DTSTART:20261101T060000
END:STANDARD
END:VTIMEZONE
BEGIN:VEVENT
DTSTART;VALUE=DATE:20251005
DTEND;VALUE=DATE:20251012
DTSTAMP:20260425T085652
CREATED:20250102T172120Z
LAST-MODIFIED:20250408T124203Z
UID:10000535-1759622400-1760227199@frontier.edu
SUMMARY:National Midwifery Week
DESCRIPTION:National Midwifery Week was created by American College of Nurse-Midwives to celebrate and recognize midwives and midwifery-led care. Visit www.midwife.org to learn more. \nFrontier will be hosting a virtual event in celebration of National Midwifery Week.
URL:https://frontier.edu/event/national-midwifery-week-3/
CATEGORIES:CE,Events & Conferences,Frontier Events Page
ATTACH;FMTTYPE=image/png:https://frontier.edu/wp-content/uploads/2024/11/Midwife-with-pregnant-mother.png
END:VEVENT
BEGIN:VEVENT
DTSTART;VALUE=DATE:20251010
DTEND;VALUE=DATE:20251014
DTSTAMP:20260425T085652
CREATED:20250915T202845Z
LAST-MODIFIED:20250915T202939Z
UID:10000608-1760054400-1760399999@frontier.edu
SUMMARY:American College of Nurse-Midwives (ACNM) Annual Meeting & Exhibition
DESCRIPTION:The ACNM 70th Annual Meeting & Exhibition will take place October 10 – 13\, 2025. See you in Palm Springs\, CA! \n 
URL:https://frontier.edu/event/american-college-of-nurse-midwives-acnm-annual-meeting-exhibition/
CATEGORIES:Events & Conferences,Frontier Events Page
ATTACH;FMTTYPE=image/jpeg:https://frontier.edu/wp-content/uploads/2025/09/ACNM-68-Mentees-Dr-Stone-Dr.-Loomis.jpeg
END:VEVENT
END:VCALENDAR