BEGIN:VCALENDAR
VERSION:2.0
PRODID:-//Frontier Nursing University - ECPv6.15.20//NONSGML v1.0//EN
CALSCALE:GREGORIAN
METHOD:PUBLISH
X-WR-CALNAME:Frontier Nursing University
X-ORIGINAL-URL:https://frontier.edu
X-WR-CALDESC:Events for Frontier Nursing University
REFRESH-INTERVAL;VALUE=DURATION:PT1H
X-Robots-Tag:noindex
X-PUBLISHED-TTL:PT1H
BEGIN:VTIMEZONE
TZID:UTC
BEGIN:STANDARD
TZOFFSETFROM:+0000
TZOFFSETTO:+0000
TZNAME:UTC
DTSTART:20250101T000000
END:STANDARD
END:VTIMEZONE
BEGIN:VEVENT
DTSTART;VALUE=DATE:20260819
DTEND;VALUE=DATE:20260822
DTSTAMP:20260423T230612
CREATED:20251018T115813Z
LAST-MODIFIED:20251018T115813Z
UID:10000612-1787097600-1787356799@frontier.edu
SUMMARY:Frontier Bound #2 - Fall Term 2026\, DNP Class 64
DESCRIPTION:Students begin their journey with an orientation to Frontier Nursing University. Time is spent learning skills needed for distance education\, making lifelong friends\, reviewing courses\, asking questions\, and planning to be a successful Frontier student after returning home. \nFall 2026 term begins October 5\, 2026.
URL:https://frontier.edu/event/frontier-bound-2-fall-term-2026-dnp/
CATEGORIES:Frontier Bound
END:VEVENT
END:VCALENDAR