BEGIN:VCALENDAR
VERSION:2.0
PRODID:-//Frontier Nursing University - ECPv6.15.20//NONSGML v1.0//EN
CALSCALE:GREGORIAN
METHOD:PUBLISH
X-WR-CALNAME:Frontier Nursing University
X-ORIGINAL-URL:https://frontier.edu
X-WR-CALDESC:Events for Frontier Nursing University
REFRESH-INTERVAL;VALUE=DURATION:PT1H
X-Robots-Tag:noindex
X-PUBLISHED-TTL:PT1H
BEGIN:VTIMEZONE
TZID:America/Kentucky/Louisville
BEGIN:DAYLIGHT
TZOFFSETFROM:-0500
TZOFFSETTO:-0400
TZNAME:EDT
DTSTART:20240310T070000
END:DAYLIGHT
BEGIN:STANDARD
TZOFFSETFROM:-0400
TZOFFSETTO:-0500
TZNAME:EST
DTSTART:20241103T060000
END:STANDARD
BEGIN:DAYLIGHT
TZOFFSETFROM:-0500
TZOFFSETTO:-0400
TZNAME:EDT
DTSTART:20250309T070000
END:DAYLIGHT
BEGIN:STANDARD
TZOFFSETFROM:-0400
TZOFFSETTO:-0500
TZNAME:EST
DTSTART:20251102T060000
END:STANDARD
BEGIN:DAYLIGHT
TZOFFSETFROM:-0500
TZOFFSETTO:-0400
TZNAME:EDT
DTSTART:20260308T070000
END:DAYLIGHT
BEGIN:STANDARD
TZOFFSETFROM:-0400
TZOFFSETTO:-0500
TZNAME:EST
DTSTART:20261101T060000
END:STANDARD
END:VTIMEZONE
BEGIN:VTIMEZONE
TZID:UTC
BEGIN:STANDARD
TZOFFSETFROM:+0000
TZOFFSETTO:+0000
TZNAME:UTC
DTSTART:20240101T000000
END:STANDARD
END:VTIMEZONE
BEGIN:VTIMEZONE
TZID:America/Los_Angeles
BEGIN:DAYLIGHT
TZOFFSETFROM:-0800
TZOFFSETTO:-0700
TZNAME:PDT
DTSTART:20240310T100000
END:DAYLIGHT
BEGIN:STANDARD
TZOFFSETFROM:-0700
TZOFFSETTO:-0800
TZNAME:PST
DTSTART:20241103T090000
END:STANDARD
BEGIN:DAYLIGHT
TZOFFSETFROM:-0800
TZOFFSETTO:-0700
TZNAME:PDT
DTSTART:20250309T100000
END:DAYLIGHT
BEGIN:STANDARD
TZOFFSETFROM:-0700
TZOFFSETTO:-0800
TZNAME:PST
DTSTART:20251102T090000
END:STANDARD
BEGIN:DAYLIGHT
TZOFFSETFROM:-0800
TZOFFSETTO:-0700
TZNAME:PDT
DTSTART:20260308T100000
END:DAYLIGHT
BEGIN:STANDARD
TZOFFSETFROM:-0700
TZOFFSETTO:-0800
TZNAME:PST
DTSTART:20261101T090000
END:STANDARD
END:VTIMEZONE
BEGIN:VEVENT
DTSTART;VALUE=DATE:20250623
DTEND;VALUE=DATE:20250628
DTSTAMP:20260420T224133
CREATED:20250102T190039Z
LAST-MODIFIED:20250515T164136Z
UID:10000561-1750636800-1751068799@frontier.edu
SUMMARY:Presidential Tour Northwest - California\, Oregon & Washington
DESCRIPTION:We hope to see you on our Presidential Tour! Dr. Brooke Flinders will be visiting regions across the U.S. in 2025 to meet with the Frontier Community. \nView Presidential Tour Events
URL:https://frontier.edu/event/presidential-tour-3/
CATEGORIES:100 Years,Events & Conferences,Frontier Events Page,Presidential Tour
ATTACH;FMTTYPE=image/jpeg:https://frontier.edu/wp-content/uploads/2025/01/Portland.jpg
END:VEVENT
BEGIN:VEVENT
DTSTART;VALUE=DATE:20250625
DTEND;VALUE=DATE:20250626
DTSTAMP:20260420T224133
CREATED:20240911T212555Z
LAST-MODIFIED:20240911T212555Z
UID:10000531-1750809600-1750895999@frontier.edu
SUMMARY:Fall Term 2025 Application Deadline
DESCRIPTION:Fall Term 2025 \nFNU accepts applicants on a rolling admission process versus a standard admission process. Applicants can learn the status of their application within four to five weeks after their application materials are received by FNU. Apply today…the sooner you apply\, the sooner you know. \nWe look forward to working with you. \n 
URL:https://frontier.edu/event/fall-term-2025-application-deadline/
CATEGORIES:Application Deadlines
ATTACH;FMTTYPE=image/png:https://frontier.edu/wp-content/uploads/2024/09/Fall-Term-Application-Deadline-2025.png
END:VEVENT
BEGIN:VEVENT
DTSTART;TZID=America/Los_Angeles:20250625T180000
DTEND;TZID=America/Los_Angeles:20250625T200000
DTSTAMP:20260420T224133
CREATED:20250515T163227Z
LAST-MODIFIED:20250515T163227Z
UID:10000590-1750874400-1750881600@frontier.edu
SUMMARY:Community Meet and Mingle at ClarkLewis Restaurant
DESCRIPTION:Calling all Frontier Nursing University alumni\, students\, staff\, faculty and preceptors in the Portland area! Join us for a special Meet & Mingle at ClarkLewis Restaurant on Wednesday\, June 25\, 2025\, from 6-8 p.m. Connect with fellow members of the FNU community\, enjoy great conversation\, and share your experiences over delicious food and drinks.  \nYou will also hear from FNU’s new President\, Dr. Brooke Flinders\, as she gives a special update.  \nDon’t miss this chance to build connections and celebrate our FNU network in Portland! We look forward to seeing you there! \nWHERE:\nClarkLewis Restaurant\n1001 SE Water Ave.\nPortland\, OR 97214 \nWHEN:\nJune 25 at 6-8 p.m. \n RSVP
URL:https://frontier.edu/event/community-meet-and-mingle-at-clarklewis-restaurant/
CATEGORIES:100 Years,Events & Conferences,Frontier Events Page,Presidential Tour
ATTACH;FMTTYPE=image/jpeg:https://frontier.edu/wp-content/uploads/2025/05/ClarkLewis-Restaurant-Portland.jpeg
END:VEVENT
END:VCALENDAR