BEGIN:VCALENDAR
VERSION:2.0
PRODID:-//Frontier Nursing University - ECPv6.15.20//NONSGML v1.0//EN
CALSCALE:GREGORIAN
METHOD:PUBLISH
X-ORIGINAL-URL:https://frontier.edu
X-WR-CALDESC:Events for Frontier Nursing University
REFRESH-INTERVAL;VALUE=DURATION:PT1H
X-Robots-Tag:noindex
X-PUBLISHED-TTL:PT1H
BEGIN:VTIMEZONE
TZID:UTC
BEGIN:STANDARD
TZOFFSETFROM:+0000
TZOFFSETTO:+0000
TZNAME:UTC
DTSTART:20240101T000000
END:STANDARD
END:VTIMEZONE
BEGIN:VTIMEZONE
TZID:America/Kentucky/Louisville
BEGIN:DAYLIGHT
TZOFFSETFROM:-0500
TZOFFSETTO:-0400
TZNAME:EDT
DTSTART:20240310T070000
END:DAYLIGHT
BEGIN:STANDARD
TZOFFSETFROM:-0400
TZOFFSETTO:-0500
TZNAME:EST
DTSTART:20241103T060000
END:STANDARD
BEGIN:DAYLIGHT
TZOFFSETFROM:-0500
TZOFFSETTO:-0400
TZNAME:EDT
DTSTART:20250309T070000
END:DAYLIGHT
BEGIN:STANDARD
TZOFFSETFROM:-0400
TZOFFSETTO:-0500
TZNAME:EST
DTSTART:20251102T060000
END:STANDARD
BEGIN:DAYLIGHT
TZOFFSETFROM:-0500
TZOFFSETTO:-0400
TZNAME:EDT
DTSTART:20260308T070000
END:DAYLIGHT
BEGIN:STANDARD
TZOFFSETFROM:-0400
TZOFFSETTO:-0500
TZNAME:EST
DTSTART:20261101T060000
END:STANDARD
END:VTIMEZONE
BEGIN:VEVENT
DTSTART;VALUE=DATE:20250219
DTEND;VALUE=DATE:20250222
DTSTAMP:20260419T162602
CREATED:20240327T122213Z
LAST-MODIFIED:20240327T122213Z
UID:10000495-1739923200-1740182399@frontier.edu
SUMMARY:Frontier Bound #2 - Spring Term 2025\, DNP Class 58
DESCRIPTION:Students begin their journey with an orientation to Frontier Nursing University. Time is spent learning skills needed for distance education\, making lifelong friends\, reviewing courses\, asking questions\, and planning to be a successful Frontier student after returning home. \nSpring 2025 term begins April 7\, 2025.
URL:https://frontier.edu/event/frontier-bound-2-spring-term-2025-dnp-class-58/
CATEGORIES:Frontier Bound
END:VEVENT
BEGIN:VEVENT
DTSTART;TZID=America/Kentucky/Louisville:20250219T180000
DTEND;TZID=America/Kentucky/Louisville:20250219T210000
DTSTAMP:20260419T162602
CREATED:20250128T165739Z
LAST-MODIFIED:20250204T124232Z
UID:10000568-1739988000-1739998800@frontier.edu
SUMMARY:Presidential Tour Southeast - Charlotte Event
DESCRIPTION:Join Frontier Nursing University for an unforgettable evening in Charlotte\, NC\, with Dr. Brooke Flinders! We’ll begin at the elegant Mint Museum Uptown\, where you’ll experience a vibrant blend of art and conversation\, followed by a lively gathering at HopFly Brewery to continue the celebration. Don’t miss this unique opportunity to connect with fellow alumni\, faculty and friends while engaging with Dr. Flinders in these inspiring venues. \nPlease note: You do NOT have to attend both portions of the evening. Come to one or both\, we will love to have you either way! \nThis is a FREE event. Please RSVP and include any guests you are bringing in the ticket count\, so that we are able to plan accordingly. Can’t wait to see you there! \nWHERE:\nMint Museum Uptown\n500 S Tryon Street\nCharlotte\, NC 28202 \nHopFly Brewery\n1327 S Mint Street\nCharlotte\, NC 28203 \nWHEN:\nFebruary 19\nMint Museum Uptown\, 6-8 p.m.\nHopFly Brewery\, 8-9 p.m. \n RSVP
URL:https://frontier.edu/event/presidential-tour-southeast-charlotte-event/
CATEGORIES:100 Years,Events & Conferences,Frontier Events Page,Presidential Tour
ATTACH;FMTTYPE=image/jpeg:https://frontier.edu/wp-content/uploads/2025/01/mint-museum-uptown-Charlotte.jpeg
END:VEVENT
END:VCALENDAR