BEGIN:VCALENDAR
VERSION:2.0
PRODID:-//Frontier Nursing University - ECPv6.15.20//NONSGML v1.0//EN
CALSCALE:GREGORIAN
METHOD:PUBLISH
X-WR-CALNAME:Frontier Nursing University
X-ORIGINAL-URL:https://frontier.edu
X-WR-CALDESC:Events for Frontier Nursing University
REFRESH-INTERVAL;VALUE=DURATION:PT1H
X-Robots-Tag:noindex
X-PUBLISHED-TTL:PT1H
BEGIN:VTIMEZONE
TZID:UTC
BEGIN:STANDARD
TZOFFSETFROM:+0000
TZOFFSETTO:+0000
TZNAME:UTC
DTSTART:20230101T000000
END:STANDARD
END:VTIMEZONE
BEGIN:VEVENT
DTSTART;VALUE=DATE:20240606
DTEND;VALUE=DATE:20240610
DTSTAMP:20260422T054753
CREATED:20240514T164738Z
LAST-MODIFIED:20240514T164738Z
UID:10000520-1717632000-1717977599@frontier.edu
SUMMARY:American Psychiatric Nurses Association (APNA) Conference
DESCRIPTION:Location: Rockville\, MD \n 
URL:https://frontier.edu/event/american-psychiatric-nurses-association-apna-conference-7/
CATEGORIES:Events & Conferences
END:VEVENT
BEGIN:VEVENT
DTSTART;VALUE=DATE:20240607
DTEND;VALUE=DATE:20240612
DTSTAMP:20260422T054753
CREATED:20240514T145916Z
LAST-MODIFIED:20240524T155525Z
UID:10000503-1717718400-1718150399@frontier.edu
SUMMARY:Association of Women’s Health\, Obstetric and Neonatal Nurses (AWHONN) Conference & Reception
DESCRIPTION:Location: Tucson\, AZ \nAlumni & Friends Reception – Saturday\, June 8\, 2024\n5:00 – 7:00 pm MST\nSheraton Phoenix Downtown Estrella Room
URL:https://frontier.edu/event/association-of-womens-health-obstetric-and-neonatal-nurses-awhonn-conference-4/
CATEGORIES:Events & Conferences
END:VEVENT
END:VCALENDAR