BEGIN:VCALENDAR
VERSION:2.0
PRODID:-//Frontier Nursing University - ECPv6.15.20//NONSGML v1.0//EN
CALSCALE:GREGORIAN
METHOD:PUBLISH
X-WR-CALNAME:Frontier Nursing University
X-ORIGINAL-URL:https://frontier.edu
X-WR-CALDESC:Events for Frontier Nursing University
REFRESH-INTERVAL;VALUE=DURATION:PT1H
X-Robots-Tag:noindex
X-PUBLISHED-TTL:PT1H
BEGIN:VTIMEZONE
TZID:UTC
BEGIN:STANDARD
TZOFFSETFROM:+0000
TZOFFSETTO:+0000
TZNAME:UTC
DTSTART:20220101T000000
END:STANDARD
END:VTIMEZONE
BEGIN:VEVENT
DTSTART;VALUE=DATE:20230524
DTEND;VALUE=DATE:20230527
DTSTAMP:20260420T063906
CREATED:20210917T134026Z
LAST-MODIFIED:20221011T173425Z
UID:10000383-1684886400-1685145599@frontier.edu
SUMMARY:Frontier Bound #2 - Summer Term 2023\, DNP Class 51
DESCRIPTION:Subject to change due to COVID-19. Students begin their journey with an orientation to Frontier Nursing University. Time is spent learning skills needed for distance education\, making lifelong friends\, reviewing courses\, asking questions\, and planning to be a successful Frontier student after returning home. \nSummer 2023 term begins July 3\, 2023.
URL:https://frontier.edu/event/frontier-bound-2-summer-term-2023-msn-pgc-cnm-fnp-pmhnp-class-208/
CATEGORIES:Frontier Bound
END:VEVENT
END:VCALENDAR