BEGIN:VCALENDAR
VERSION:2.0
PRODID:-//Frontier Nursing University - ECPv6.15.20//NONSGML v1.0//EN
CALSCALE:GREGORIAN
METHOD:PUBLISH
X-WR-CALNAME:Frontier Nursing University
X-ORIGINAL-URL:https://frontier.edu
X-WR-CALDESC:Events for Frontier Nursing University
REFRESH-INTERVAL;VALUE=DURATION:PT1H
X-Robots-Tag:noindex
X-PUBLISHED-TTL:PT1H
BEGIN:VTIMEZONE
TZID:UTC
BEGIN:STANDARD
TZOFFSETFROM:+0000
TZOFFSETTO:+0000
TZNAME:UTC
DTSTART:20220101T000000
END:STANDARD
END:VTIMEZONE
BEGIN:VEVENT
DTSTART;VALUE=DATE:20230505
DTEND;VALUE=DATE:20230511
DTSTAMP:20260420T133235
CREATED:20230131T213853Z
LAST-MODIFIED:20230131T213903Z
UID:10000431-1683244800-1683763199@frontier.edu
SUMMARY:American College of Nurse-Midwives (ACNM) Annual Conference
DESCRIPTION:See you in Orlando\, FL!
URL:https://frontier.edu/event/american-college-of-nurse-midwives-acnm-annual-conference/
CATEGORIES:Events & Conferences
END:VEVENT
END:VCALENDAR