BEGIN:VCALENDAR
VERSION:2.0
PRODID:-//Frontier Nursing University - ECPv6.15.20//NONSGML v1.0//EN
CALSCALE:GREGORIAN
METHOD:PUBLISH
X-ORIGINAL-URL:https://frontier.edu
X-WR-CALDESC:Events for Frontier Nursing University
REFRESH-INTERVAL;VALUE=DURATION:PT1H
X-Robots-Tag:noindex
X-PUBLISHED-TTL:PT1H
BEGIN:VTIMEZONE
TZID:UTC
BEGIN:STANDARD
TZOFFSETFROM:+0000
TZOFFSETTO:+0000
TZNAME:UTC
DTSTART:20210101T000000
END:STANDARD
END:VTIMEZONE
BEGIN:VEVENT
DTSTART;VALUE=DATE:20221113
DTEND;VALUE=DATE:20221120
DTSTAMP:20260422T182934
CREATED:20181107T221322Z
LAST-MODIFIED:20220120T155634Z
UID:10000293-1668297600-1668902399@frontier.edu
SUMMARY:National Nurse Practitioner Week
DESCRIPTION:National Nurse Practitioner Week is held annually to celebrate these exceptional health care providers and to remind lawmakers of the importance of removing outdated barriers to practice so that NPs will be allowed to practice to the full extent of their experience and education. Visit www.aanp.org to learn more.
URL:https://frontier.edu/event/national-nurse-practitioner-week-2-2/
CATEGORIES:Events & Conferences
END:VEVENT
BEGIN:VEVENT
DTSTART;VALUE=DATE:20221116
DTEND;VALUE=DATE:20221119
DTSTAMP:20260422T182934
CREATED:20210917T131720Z
LAST-MODIFIED:20220401T173508Z
UID:10000373-1668556800-1668815999@frontier.edu
SUMMARY:Frontier Bound #2 - Winter Term 2023\, MSN & PGC (CNM\, FNP\, PMHNP) Class 206
DESCRIPTION:Subject to change due to COVID-19. Students begin their journey with an orientation to Frontier Nursing University. Time is spent learning skills needed for distance education\, making lifelong friends\, reviewing courses\, asking questions\, and planning to be a successful Frontier student after returning home. \nWinter 2023 term begins January 9\, 2023.
URL:https://frontier.edu/event/frontier-bound-2-winter-term-2023-msn-pgc-cnm-fnp-pmhnp-class-206/
CATEGORIES:Frontier Bound
END:VEVENT
END:VCALENDAR