BEGIN:VCALENDAR
VERSION:2.0
PRODID:-//Frontier Nursing University - ECPv6.15.20//NONSGML v1.0//EN
CALSCALE:GREGORIAN
METHOD:PUBLISH
X-WR-CALNAME:Frontier Nursing University
X-ORIGINAL-URL:https://frontier.edu
X-WR-CALDESC:Events for Frontier Nursing University
REFRESH-INTERVAL;VALUE=DURATION:PT1H
X-Robots-Tag:noindex
X-PUBLISHED-TTL:PT1H
BEGIN:VTIMEZONE
TZID:UTC
BEGIN:STANDARD
TZOFFSETFROM:+0000
TZOFFSETTO:+0000
TZNAME:UTC
DTSTART:20210101T000000
END:STANDARD
END:VTIMEZONE
BEGIN:VEVENT
DTSTART;VALUE=DATE:20221103
DTEND;VALUE=DATE:20221105
DTSTAMP:20260421T025836
CREATED:20220531T193955Z
LAST-MODIFIED:20220531T193955Z
UID:10000404-1667433600-1667606399@frontier.edu
SUMMARY:Kentucky Nurses Association (KNA) Annual Summit
DESCRIPTION:
URL:https://frontier.edu/event/kentucky-nurses-association-kna-annual-summit-2/
CATEGORIES:Events & Conferences
END:VEVENT
END:VCALENDAR