BEGIN:VCALENDAR
VERSION:2.0
PRODID:-//Frontier Nursing University - ECPv6.15.20//NONSGML v1.0//EN
CALSCALE:GREGORIAN
METHOD:PUBLISH
X-ORIGINAL-URL:https://frontier.edu
X-WR-CALDESC:Events for Frontier Nursing University
REFRESH-INTERVAL;VALUE=DURATION:PT1H
X-Robots-Tag:noindex
X-PUBLISHED-TTL:PT1H
BEGIN:VTIMEZONE
TZID:UTC
BEGIN:STANDARD
TZOFFSETFROM:+0000
TZOFFSETTO:+0000
TZNAME:UTC
DTSTART:20210101T000000
END:STANDARD
END:VTIMEZONE
BEGIN:VEVENT
DTSTART;VALUE=DATE:20220914
DTEND;VALUE=DATE:20220917
DTSTAMP:20260425T093951
CREATED:20210916T104428Z
LAST-MODIFIED:20220224T040045Z
UID:10000364-1663113600-1663372799@frontier.edu
SUMMARY:Frontier Bound #6 - Fall Term 2022\, DNP Class 48
DESCRIPTION:Subject to change due to COVID-19. Students begin their journey with an orientation to Frontier Nursing University. Time is spent learning skills needed for distance education\, making lifelong friends\, reviewing courses\, asking questions\, and planning to be a successful Frontier student after returning home. \nFall 2022 term begins October 3\, 2022.
URL:https://frontier.edu/event/frontier-bound-7-fall-term-2022-dnp-class-48/
CATEGORIES:Frontier Bound
END:VEVENT
BEGIN:VEVENT
DTSTART;VALUE=DATE:20220915
DTEND;VALUE=DATE:20220919
DTSTAMP:20260425T093951
CREATED:20220531T193034Z
LAST-MODIFIED:20220531T193034Z
UID:10000397-1663200000-1663545599@frontier.edu
SUMMARY:AABC-American Association of Birth Centers Birth Institute
DESCRIPTION:
URL:https://frontier.edu/event/aabc-american-association-of-birth-centers-birth-institute-2/
CATEGORIES:Events & Conferences
END:VEVENT
END:VCALENDAR