BEGIN:VCALENDAR
VERSION:2.0
PRODID:-//Frontier Nursing University - ECPv6.15.20//NONSGML v1.0//EN
CALSCALE:GREGORIAN
METHOD:PUBLISH
X-ORIGINAL-URL:https://frontier.edu
X-WR-CALDESC:Events for Frontier Nursing University
REFRESH-INTERVAL;VALUE=DURATION:PT1H
X-Robots-Tag:noindex
X-PUBLISHED-TTL:PT1H
BEGIN:VTIMEZONE
TZID:UTC
BEGIN:STANDARD
TZOFFSETFROM:+0000
TZOFFSETTO:+0000
TZNAME:UTC
DTSTART:20210101T000000
END:STANDARD
END:VTIMEZONE
BEGIN:VEVENT
DTSTART;VALUE=DATE:20220621
DTEND;VALUE=DATE:20220627
DTSTAMP:20260424T224627
CREATED:20220531T192657Z
LAST-MODIFIED:20220531T192657Z
UID:10000319-1655769600-1656287999@frontier.edu
SUMMARY:American Association of Nurse Practitioners (AANP) Conference
DESCRIPTION:
URL:https://frontier.edu/event/american-association-of-nurse-practitioners-aanp-conference-3/
CATEGORIES:Events & Conferences
END:VEVENT
END:VCALENDAR