BEGIN:VCALENDAR
VERSION:2.0
PRODID:-//Frontier Nursing University - ECPv6.15.20//NONSGML v1.0//EN
CALSCALE:GREGORIAN
METHOD:PUBLISH
X-WR-CALNAME:Frontier Nursing University
X-ORIGINAL-URL:https://frontier.edu
X-WR-CALDESC:Events for Frontier Nursing University
REFRESH-INTERVAL;VALUE=DURATION:PT1H
X-Robots-Tag:noindex
X-PUBLISHED-TTL:PT1H
BEGIN:VTIMEZONE
TZID:UTC
BEGIN:STANDARD
TZOFFSETFROM:+0000
TZOFFSETTO:+0000
TZNAME:UTC
DTSTART:20200101T000000
END:STANDARD
END:VTIMEZONE
BEGIN:VEVENT
DTSTART;VALUE=DATE:20211104
DTEND;VALUE=DATE:20211106
DTSTAMP:20260424T055941
CREATED:20210118T141410Z
LAST-MODIFIED:20210118T141410Z
UID:10000334-1635984000-1636156799@frontier.edu
SUMMARY:Kentucky Nurses Association (KNA) Annual Summit
DESCRIPTION:
URL:https://frontier.edu/event/kentucky-nurses-association-kna-annual-summit/
CATEGORIES:Events & Conferences
END:VEVENT
END:VCALENDAR