BEGIN:VCALENDAR
VERSION:2.0
PRODID:-//Frontier Nursing University - ECPv6.15.20//NONSGML v1.0//EN
CALSCALE:GREGORIAN
METHOD:PUBLISH
X-ORIGINAL-URL:https://frontier.edu
X-WR-CALDESC:Events for Frontier Nursing University
REFRESH-INTERVAL;VALUE=DURATION:PT1H
X-Robots-Tag:noindex
X-PUBLISHED-TTL:PT1H
BEGIN:VTIMEZONE
TZID:UTC
BEGIN:STANDARD
TZOFFSETFROM:+0000
TZOFFSETTO:+0000
TZNAME:UTC
DTSTART:20200101T000000
END:STANDARD
END:VTIMEZONE
BEGIN:VTIMEZONE
TZID:America/Kentucky/Louisville
BEGIN:DAYLIGHT
TZOFFSETFROM:-0500
TZOFFSETTO:-0400
TZNAME:EDT
DTSTART:20200308T070000
END:DAYLIGHT
BEGIN:STANDARD
TZOFFSETFROM:-0400
TZOFFSETTO:-0500
TZNAME:EST
DTSTART:20201101T060000
END:STANDARD
BEGIN:DAYLIGHT
TZOFFSETFROM:-0500
TZOFFSETTO:-0400
TZNAME:EDT
DTSTART:20210314T070000
END:DAYLIGHT
BEGIN:STANDARD
TZOFFSETFROM:-0400
TZOFFSETTO:-0500
TZNAME:EST
DTSTART:20211107T060000
END:STANDARD
BEGIN:DAYLIGHT
TZOFFSETFROM:-0500
TZOFFSETTO:-0400
TZNAME:EDT
DTSTART:20220313T070000
END:DAYLIGHT
BEGIN:STANDARD
TZOFFSETFROM:-0400
TZOFFSETTO:-0500
TZNAME:EST
DTSTART:20221106T060000
END:STANDARD
END:VTIMEZONE
BEGIN:VEVENT
DTSTART;VALUE=DATE:20211013
DTEND;VALUE=DATE:20211017
DTSTAMP:20260420T173351
CREATED:20210118T141312Z
LAST-MODIFIED:20210118T141312Z
UID:10000333-1634083200-1634428799@frontier.edu
SUMMARY:American Psychiatric Nurses Association (APNA) Conference
DESCRIPTION:To be held in Louisville\, KY
URL:https://frontier.edu/event/american-psychiatric-nurses-association-apna-conference-3/
CATEGORIES:Events & Conferences
END:VEVENT
BEGIN:VEVENT
DTSTART;VALUE=DATE:20211013
DTEND;VALUE=DATE:20211017
DTSTAMP:20260420T173351
CREATED:20210506T154136Z
LAST-MODIFIED:20210506T154136Z
UID:10000277-1634083200-1634428799@frontier.edu
SUMMARY:Nurse Practitioners Women’s Healthcare (NPWH) Conference - VIRTUAL
DESCRIPTION:
URL:https://frontier.edu/event/nurse-practitioners-womens-healthcare-npwh-conference-virtual-2/
CATEGORIES:Events & Conferences
END:VEVENT
END:VCALENDAR