BEGIN:VCALENDAR
VERSION:2.0
PRODID:-//Frontier Nursing University - ECPv6.15.20//NONSGML v1.0//EN
CALSCALE:GREGORIAN
METHOD:PUBLISH
X-ORIGINAL-URL:https://frontier.edu
X-WR-CALDESC:Events for Frontier Nursing University
REFRESH-INTERVAL;VALUE=DURATION:PT1H
X-Robots-Tag:noindex
X-PUBLISHED-TTL:PT1H
BEGIN:VTIMEZONE
TZID:UTC
BEGIN:STANDARD
TZOFFSETFROM:+0000
TZOFFSETTO:+0000
TZNAME:UTC
DTSTART:20180101T000000
END:STANDARD
END:VTIMEZONE
BEGIN:VEVENT
DTSTART;VALUE=DATE:20191110
DTEND;VALUE=DATE:20191117
DTSTAMP:20260423T202146
CREATED:20180814T003449Z
LAST-MODIFIED:20191222T204832Z
UID:10000274-1573344000-1573948799@frontier.edu
SUMMARY:FNU's Virtual Event in Celebration of National Nurse Practitioner Week
DESCRIPTION:  \nNational Nurse Practitioner Week is November 10-16\, and Frontier Nursing University is celebrating by hosting an exciting virtual event dedicated to nurse practitioners. During the virtual event\, hear from outstanding speakers and participate in a FREE continuing education opportunity. We hope you’ll join us! \nVisit the event website at Frontier.edu/NPWeek.
URL:https://frontier.edu/event/fnus-virtual-event-in-celebration-of-national-nurse-practitioner-week-2018/
CATEGORIES:Events & Conferences
END:VEVENT
BEGIN:VEVENT
DTSTART;VALUE=DATE:20191114
DTEND;VALUE=DATE:20191116
DTSTAMP:20260423T202146
CREATED:20191023T192810Z
LAST-MODIFIED:20191222T204832Z
UID:10000220-1573689600-1573862399@frontier.edu
SUMMARY:Kentucky Rural Health Association (KRHA) Annual Conference
DESCRIPTION:The Kentucky Rural Health Association (KRHA) educates providers and consumers on rural health issues and advocates actions by private and public leaders to assure equitable access to health care for rural Kentuckians. The 20th annual conference will be held in Bowling Green\, Ky. Learn more here.
URL:https://frontier.edu/event/kentucky-rural-health-association-krha-annual-conference/
CATEGORIES:Events & Conferences
END:VEVENT
END:VCALENDAR