BEGIN:VCALENDAR
VERSION:2.0
PRODID:-//Frontier Nursing University - ECPv6.15.20//NONSGML v1.0//EN
CALSCALE:GREGORIAN
METHOD:PUBLISH
X-WR-CALNAME:Frontier Nursing University
X-ORIGINAL-URL:https://frontier.edu
X-WR-CALDESC:Events for Frontier Nursing University
REFRESH-INTERVAL;VALUE=DURATION:PT1H
X-Robots-Tag:noindex
X-PUBLISHED-TTL:PT1H
BEGIN:VTIMEZONE
TZID:UTC
BEGIN:STANDARD
TZOFFSETFROM:+0000
TZOFFSETTO:+0000
TZNAME:UTC
DTSTART:20180101T000000
END:STANDARD
END:VTIMEZONE
BEGIN:VEVENT
DTSTART;VALUE=DATE:20191108
DTEND;VALUE=DATE:20191109
DTSTAMP:20260423T160426
CREATED:20181107T220312Z
LAST-MODIFIED:20181107T220312Z
UID:10000289-1573171200-1573257599@frontier.edu
SUMMARY:Kentucky Nurses Association (KNA) Convention
DESCRIPTION:
URL:https://frontier.edu/event/kentucky-nurses-association-kna-convention/
END:VEVENT
BEGIN:VEVENT
DTSTART;VALUE=DATE:20191108
DTEND;VALUE=DATE:20191110
DTSTAMP:20260423T160426
CREATED:20191023T192516Z
LAST-MODIFIED:20191222T204833Z
UID:10000219-1573171200-1573343999@frontier.edu
SUMMARY:Organization for Associate Degree Nursing (OADN) Annual Convention
DESCRIPTION:Founded in 1984\, the Organization for Associate Degree Nursing (OADN) is recognized nationally as the voice for Associate Degree Nursing. OADN is dedicated to enhancing the quality of Associate Degree Nursing education\, strengthening the professional role of the Associate Degree Nurse\, and promoting the future of Associate Degree Nursing as an entry point into registered nursing in the midst of healthcare changes. The 2019 convention will be held in Louisville\, Ky. Learn more here.
URL:https://frontier.edu/event/organization-for-associate-degree-nursing-oadn-annual-convention/
CATEGORIES:Events & Conferences
END:VEVENT
END:VCALENDAR