BEGIN:VCALENDAR
VERSION:2.0
PRODID:-//Frontier Nursing University - ECPv6.15.20//NONSGML v1.0//EN
CALSCALE:GREGORIAN
METHOD:PUBLISH
X-WR-CALNAME:Frontier Nursing University
X-ORIGINAL-URL:https://frontier.edu
X-WR-CALDESC:Events for Frontier Nursing University
REFRESH-INTERVAL;VALUE=DURATION:PT1H
X-Robots-Tag:noindex
X-PUBLISHED-TTL:PT1H
BEGIN:VTIMEZONE
TZID:UTC
BEGIN:STANDARD
TZOFFSETFROM:+0000
TZOFFSETTO:+0000
TZNAME:UTC
DTSTART:20170101T000000
END:STANDARD
END:VTIMEZONE
BEGIN:VEVENT
DTSTART;VALUE=DATE:20181004
DTEND;VALUE=DATE:20181007
DTSTAMP:20260422T151244
CREATED:20170808T004002Z
LAST-MODIFIED:20191222T205053Z
UID:10000252-1538611200-1538870399@frontier.edu
SUMMARY:American Assembly for Men in Nursing (AAMN)
DESCRIPTION:
URL:https://frontier.edu/event/american-assembly-for-men-in-nursing-aamn/
CATEGORIES:Events & Conferences
END:VEVENT
BEGIN:VEVENT
DTSTART;VALUE=DATE:20181004
DTEND;VALUE=DATE:20181008
DTSTAMP:20260422T151244
CREATED:20180815T215900Z
LAST-MODIFIED:20191222T205052Z
UID:10000281-1538611200-1538956799@frontier.edu
SUMMARY:AABC-American Association of Birth Centers
DESCRIPTION:AABC-American Association of Birth Centers\nFort Worth\, TX
URL:https://frontier.edu/event/aabc-american-association-of-birth-centers/
CATEGORIES:Events & Conferences
END:VEVENT
END:VCALENDAR